BEGIN:VCALENDAR
PRODID:-//AT Content Types//AT Event//EN
VERSION:2.0
METHOD:PUBLISH
BEGIN:VEVENT
DTSTAMP:20210829T064241Z
CREATED:20151008T175759Z
UID:ATEvent-f41e0d189a9d4eaaab0029dad43734b8
LAST-MODIFIED:20151014T102042Z
SUMMARY:4a edició del Campionat d'Scrabble en català a Encamp
DTSTART:20151023T160000Z
DTEND:20151023T193000Z
LOCATION:Biblioteca Comunal d'Encamp
CATEGORIES:Premis i concursos
CONTACT:Biblioteca Comunal d'Encamp\, al telèfon (00 376) 732 704
CLASS:PUBLIC
END:VEVENT
END:VCALENDAR
