BEGIN:VCALENDAR
PRODID:-//AT Content Types//AT Event//EN
VERSION:2.0
METHOD:PUBLISH
BEGIN:VEVENT
DTSTAMP:20210830T022322Z
CREATED:20160426T142115Z
UID:ATEvent-cc648017c7ff446fb6eec166cdf08471
LAST-MODIFIED:20160426T142337Z
SUMMARY:33a Travessa de Muntanya d'Encamp
DTSTART:20160702T055000Z
DTEND:20160702T140000Z
DESCRIPTION:El pròxim dissabte 2 de juliol teniu una cita amb les mun
 tanyes encampadanes. Enguany us proposem tres traçats inèdits per a 
 la cursa de muntanya més antiga del Principat. No us la perdeu!
LOCATION:Sortida a l'Alberg de la Baronia
CATEGORIES:Esports
CLASS:PUBLIC
END:VEVENT
END:VCALENDAR
