BEGIN:VCALENDAR
PRODID:-//AT Content Types//AT Event//EN
VERSION:1.0
BEGIN:VEVENT
DTSTART:20160509T180000Z
DTEND:20160509T190000Z
DCREATED:20160330T235251Z
UID:ATEvent-0516ffa07d194cd18e8797d049f43d1f
SEQUENCE:0
LAST-MODIFIED:20160414T173541Z
SUMMARY:“El secret del meu turbant”
DESCRIPTION:Activitat a la Biblioteca Comunal d'Encamp
PRIORITY:3
TRANSP:0
END:VEVENT
END:VCALENDAR
